BEGIN:VCALENDAR
VERSION:2.0
PRODID:-//Bienenarche - ECPv6.3.7//NONSGML v1.0//EN
CALSCALE:GREGORIAN
METHOD:PUBLISH
X-ORIGINAL-URL:https://bienenarche.de
X-WR-CALDESC:Veranstaltungen für Bienenarche
REFRESH-INTERVAL;VALUE=DURATION:PT1H
X-Robots-Tag:noindex
X-PUBLISHED-TTL:PT1H
BEGIN:VTIMEZONE
TZID:Europe/Berlin
BEGIN:DAYLIGHT
TZOFFSETFROM:+0100
TZOFFSETTO:+0200
TZNAME:CEST
DTSTART:20200329T010000
END:DAYLIGHT
BEGIN:STANDARD
TZOFFSETFROM:+0200
TZOFFSETTO:+0100
TZNAME:CET
DTSTART:20201025T010000
END:STANDARD
END:VTIMEZONE
BEGIN:VEVENT
DTSTART;TZID=Europe/Berlin:20200305T183000
DTEND;TZID=Europe/Berlin:20200305T210000
DTSTAMP:20260419T180644
CREATED:20200127T182301Z
LAST-MODIFIED:20200127T185600Z
UID:181-1583433000-1583442000@bienenarche.de
SUMMARY:MOOCbar
DESCRIPTION:Als Ergänzung zum beeMOOC\, einem Onlinekurs zur naturnahen Bienenhaltung bietet die Bienenarche an 4 Donnerstagen im März die MOOCbar an. Hier können die Lerninhalte besprochen und vertieft werden. Die MOOCbar ist kostenfrei\, um eine Anmeldung wird aber gebeten.
URL:https://bienenarche.de/event/moocbar/
LOCATION:Kornell´s Ranch\, Sternenschanzweg\, Philippsburg\, BW\, 68753\, Deutschland
ORGANIZER;CN="BienenArche":MAILTO:info@bienenarche.de
END:VEVENT
BEGIN:VEVENT
DTSTART;TZID=Europe/Berlin:20200205T190000
DTEND;TZID=Europe/Berlin:20200205T213000
DTSTAMP:20260419T180644
CREATED:20200127T181510Z
LAST-MODIFIED:20200127T185030Z
UID:177-1580929200-1580938200@bienenarche.de
SUMMARY:BienenArche Stammtisch im Plüsch in Kirrlach
DESCRIPTION:Jeden ersten Mittwoch im Monat treffen wir uns in Waghäusel/Kirrlach im Plüsch zum Gedankenaustausch.\nHierzu sind alle Naturfreunde und Bienenfreunde herzlich eingeladen.
URL:https://bienenarche.de/event/bienenarche-stammtisch-im-pluesch-in-kirrlach/
LOCATION:Plüsch in Kirrlach\, St.-Leoner-Straße 36\, Waghäusel\, BW\, 68753\, Deutschland
ORGANIZER;CN="BienenArche":MAILTO:info@bienenarche.de
END:VEVENT
END:VCALENDAR